BEGIN:VCALENDAR
VERSION:2.0
PRODID:-//Sankt-Jakobusbruderschaft Düsseldorf e.V. - ECPv6.9.1//NONSGML v1.0//EN
CALSCALE:GREGORIAN
METHOD:PUBLISH
X-ORIGINAL-URL:https://www.jakobusbruderschaft.de
X-WR-CALDESC:Veranstaltungen für Sankt-Jakobusbruderschaft Düsseldorf e.V.
REFRESH-INTERVAL;VALUE=DURATION:PT1H
X-Robots-Tag:noindex
X-PUBLISHED-TTL:PT1H
BEGIN:VTIMEZONE
TZID:Europe/Berlin
BEGIN:DAYLIGHT
TZOFFSETFROM:+0100
TZOFFSETTO:+0200
TZNAME:CEST
DTSTART:20260329T010000
END:DAYLIGHT
BEGIN:STANDARD
TZOFFSETFROM:+0200
TZOFFSETTO:+0100
TZNAME:CET
DTSTART:20261025T010000
END:STANDARD
END:VTIMEZONE
BEGIN:VEVENT
DTSTART;VALUE=DATE:20260202
DTEND;VALUE=DATE:20260203
DTSTAMP:20260424T203120
CREATED:20251104T131100Z
LAST-MODIFIED:20260131T154154Z
UID:2092-1769990400-1770076799@www.jakobusbruderschaft.de
SUMMARY:Monatlicher Pilgertreff Düsseldorf\, fällt leider aus
DESCRIPTION:Der traditionelle\, monatliche Pilgertreff der Jakobuspilger in und um Düsseldorf\, findet im Allgemeinen jeweils am ersten Montag des Monats um 19.00 Uhr statt. \nBitte gegebenenfalls auf Ausnahmen achten\, wenn z.B. der erste Montag ein Feiertag ist\, findet das Treffen am folgenden Montag statt! \nWir treffen uns in der Düsseldorfer Altstadt im Restaurant “El Amigo” in der Schneider-Wibbel-Gasse 9\, im ersten Obergeschoss. \nFür diesen Abend gilt leider eine Ausnahme. \nEin großer Teil der Mitglieder/Teilnehmer unseres Pilgertreffs reist mit dem ÖPNV an. Leider hat Verdi für Montag einen Streik der öffendlichen Verkehrsmittel angekündigt. Bedingt hieraus fällt der monatliche Pilfertreff aus. \nDie angekündigten Themen\, siehe unten\, werden am  Montag dem 30.03.2026\, das ist unser vorgezogene Apriltermin  nachgeholt. \nZum aktuellen Stand der Planung unserer Pilgerwanderung 01/02 Mai nach Köln gibt es ein separates Rundmail. \nThemen des Abends\, (Vorgezogener Apriltermin am 30.03.2026) \nHauptvortrag: Utes Pilgerwanderung durch Südengland. \nAktuelles: Stand der Planung unserer zweitägigen Pilgerwanderung 2026 Düsseldorf –  Dormagen/Knechtsteden – Köln anlässlich des 20jährigen Bestehens des Düsseldorfer Pilgertreffs. \nHeute als Lichtmessfeier mit Blasiussegen!\nVor dem Stammtisch besteht die Möglichkeit\, jeweils am ersten Montag des Monats um 18:00 Uhr in der St. Andreas-Kirche in der Düsseldorfer Altstadt eine Pilgermesse zu besuchen. \nWer sich auf den Weg\, den Camino\, begeben möchte kann hier den Pilgersegen empfangen. Anmeldungen hierzu bitte bei:  Susanne Storm-Sammeck\, Mobil 0173/7040480. \nBitte gegebenenfalls auf Ausnahmen achten\, wenn z.B. der erste Montag ein Feiertag ist\, findet die Pilgermesse am folgenden Montag statt! Aktuelle Informationen zur Pilgermesse werden auch auf der Internet-Seite der Dominikaner unter  https://dominikaner-duesseldorf.de/gebet-gottesdienst/ veröffentlicht.
URL:https://www.jakobusbruderschaft.de/termin/monatlicher-pilgertreff-duesseldorf-2/
CATEGORIES:Pilgertreff
END:VEVENT
BEGIN:VEVENT
DTSTART;VALUE=DATE:20260214
DTEND;VALUE=DATE:20260215
DTSTAMP:20260424T203120
CREATED:20251104T134604Z
LAST-MODIFIED:20260207T145308Z
UID:2113-1771027200-1771113599@www.jakobusbruderschaft.de
SUMMARY:Pilgern vor der Haustüre mit Ute\, abweichender Termin
DESCRIPTION:Utes Pilgerwanderungen finden in der Regel am dritten Samstag des Monats statt\, aber bitte auf mögliche\, abweichende Termine achten. \nIm Allgemeinen sind es Strecken mit moderater Wegführung von ca. 10 – 12 km mit einer anschließenden Einkehr. \nWanderung mit Besuch des SOS Friedensdorf in Oberhausen. Treffpunkt der Fußgruppe Düsseldorf Hauptbahnhof am Infostand 09.10 Uhr. \nAbfahrt 09.26 Uhr Gleis 7\,  RE 19 Richtung Arnheim \nAnkunft in Oberhausen-Holten 9.58 Uhr \nvon dort aus geht es unter Ute’s Führung zu Fuß zum Friedensdorf.  \nAlternativ für die diekte Anreise per ÖPNV\, \nTreffpunkt Düsseldorf Hauptbahnhof 10.45 Uhr am Infostand \nAbfahrt 11.03 Uhr \, Gleis 17\,  RE 5 Richtung Wesel bis Oberhausen -Sterkrade\, an 11.29 Uhr.  \nVor dem Bahnhof hält der Bus 954\, Bussteig 7\, \nRichtung Hirschkamp\, 11.53 Uhr \nan Friedensdorf 12.34 Uhr. Von der Haltestelle Friedensdorf nach rechts in die Pfeilstraße.  Treffpunkt mit der Fußgruppe am Holzpavillon.   \nKosten: Eigene Anreise mit dem ÖPNV und Verzehr bei Teilnahme an der Einkehr. \nTeilnahme in eigener Verantwortung\, auf eigenem Risiko. \nDetails zu Ort\, Strecke\, Anreise und Treffpunkt werden rechtzeitig an dieser Stelle wie auch unter der WhatsApp-Gruppe: “Pilgerwanderungen Ute” bekannt gegeben. \nKontakt: Ute Schäfer\, Mobil: 01525/3504412 \nWhatsApp-Gruppe: Pilgerwanderungen Ute
URL:https://www.jakobusbruderschaft.de/termin/pilgern-vor-der-haustuere-mit-ute-abweichender-termin/
CATEGORIES:Pilgertreff
END:VEVENT
BEGIN:VEVENT
DTSTART;VALUE=DATE:20260222
DTEND;VALUE=DATE:20260223
DTSTAMP:20260424T203120
CREATED:20251104T142027Z
LAST-MODIFIED:20260128T084719Z
UID:2128-1771718400-1771804799@www.jakobusbruderschaft.de
SUMMARY:Sportlich ambitioniertes Pilgertraining\, durch die Urdenbacher Kempe
DESCRIPTION:Ein Angebot an alle Pilger und Pilgerinteressierte die sich auf ihren Camino vorbereiten möchten. \nDieses mal vom Bahnhof Düsseldorf – Benrath\, durch Urdenbach zur Urdenbacher Kempe bis Monheim (Aalschocker\, Aalfischereimuseum)\, zurück längs des Rheines bis zum Benrather Schloss ca. 18km\, auf Wunsch auch mit anschließender Einkehr. \nUhrzeit und Treffpunkt: 10.30Uhr auf dem P+R Parkplatz Ostseite des Düsseldorf – Benrather Bahnhof (Hildenerstraße). \nBei Anfahrt mittels ÖPNV BUS 730\, 788\, 789\, M1 und Stadtbahn U72 \nEs stehen Stecken von ca. 15 km\, 20 km\, 25 km\, zur Verfügung\, teilweise als Teilstrecke des rechtsrheinischen Jakobsweges im Raum Essen\, Duisburg\, Mettmann\, Düsseldorf. \nAnforderungen\, Treffpunkt\, Wanderstrecke gemäß vorheriger telefonischer Absprache\, ca. 3 bis 5 Stunden. \nIn der Regel immer am letzten Sonntagvormittag der geradzahligen Monate (Februar\, April \, Juni\, August\, Oktober\, Dezember). Bitte trotzdem auf Abweichende Termine achten. \nKontakt: Josef Rave\, Telefon: 0172/2046829
URL:https://www.jakobusbruderschaft.de/termin/sportlich-ambitioniertes-pilgertraining-12/
CATEGORIES:Pilgertreff
END:VEVENT
END:VCALENDAR