BEGIN:VCALENDAR
VERSION:2.0
PRODID:-//Sankt-Jakobusbruderschaft Düsseldorf e.V. - ECPv6.9.1//NONSGML v1.0//EN
CALSCALE:GREGORIAN
METHOD:PUBLISH
X-WR-CALNAME:Sankt-Jakobusbruderschaft Düsseldorf e.V.
X-ORIGINAL-URL:https://www.jakobusbruderschaft.de
X-WR-CALDESC:Veranstaltungen für Sankt-Jakobusbruderschaft Düsseldorf e.V.
REFRESH-INTERVAL;VALUE=DURATION:PT1H
X-Robots-Tag:noindex
X-PUBLISHED-TTL:PT1H
BEGIN:VTIMEZONE
TZID:Europe/Berlin
BEGIN:DAYLIGHT
TZOFFSETFROM:+0100
TZOFFSETTO:+0200
TZNAME:CEST
DTSTART:20260329T010000
END:DAYLIGHT
BEGIN:STANDARD
TZOFFSETFROM:+0200
TZOFFSETTO:+0100
TZNAME:CET
DTSTART:20261025T010000
END:STANDARD
END:VTIMEZONE
BEGIN:VEVENT
DTSTART;VALUE=DATE:20260501
DTEND;VALUE=DATE:20260503
DTSTAMP:20260424T191227
CREATED:20251111T225453Z
LAST-MODIFIED:20260324T222253Z
UID:2187-1777593600-1777766399@www.jakobusbruderschaft.de
SUMMARY:Pilgerwanderung Düsseldorf - Köln\, aktuelle Details
DESCRIPTION:Die Sankt Jakobusbruderschaft Düsseldorf besteht seit dem Ende der 1970er Jahre. \nDer Pilgertreff in Düsseldorf besteht seit 2006\, also im Jahre 2026 seit 20 Jahren. \nAus Anlass des 20-Jährigen Bestehens des Pilgertreff Düsseldorf gibt es eine zweitägige Pilgerwanderung von Düsseldorf\, Sankt Andreas\, zum Dom zu Köln und zum Edith Stein Denkmal\, ein Werk unseres im letzten Jahr\, verstorbenen Mitgliedes Bert Gerresheim. \nWir treffen uns am Freitagmorgen den 01.  Mai um 08.00Uhr zum Pilgersegen vor Sankt Andreas in Düsseldorf. Den Pilgersegen des Tages wird voraussichtlich Pater Manuel erteilen der vielen von uns durch den monatlichen\, montagabendlichen Pilgersegen vor dem Pilgertreff bekannt ist. \nUm dem unterschiedliche Leistungsniveau der Pilgerwanderer gerecht zu werden sind drei Gruppen vorgesehen. \nDie erste Gruppe\, die Fußpilger unter der Führung von Josef Rave\, die den ganzen Weg auf Schusters Rappen bewältigen. \nIn der Kloster-Pension Knechtsteden in Dormagen ist eine Übernachtung vorgesehen. \nAm zweiten Tag geht es weiter nach Köln. Es werden zwei Etappen von jeweils 22….25km werden\, je nach Wegführung. \nDie zweite Gruppe\, die Radpilger unter der Führung von Heiner Loers\, nehmen eine andere\, längere\, Strecke unter die Reifen. \nAuch hier ist eine Übernachtung in der Kloster-Pension Knechtsteden vorgesehen \nEs sind zwei Etappen von ca. 40km geplant. \nIn der Kloster-Pension Knechtsteden sind rechtzeitig und selbstständig die Zimmer zu reservieren. \nTelefon 02133/ 262 261 oder kontakt@pension-knechtsteden.de \nhttps://www.pension-knechtsteden.de/ \nZum gemeinsamen Abendessen treffen wir uns um 19.00Uhr  im Restaurant Klosterhof Knechtsteden. \nHierzu benötigen wir eure vorherige\, verbindliche Zusage für die Reservierung. \nhttps://klosterhof-knechtsteden.de/ \nAm Samstagmorgen brechen wir nach dem gemeinsamen Frühstück in der Kloster-Pension gegen 08.00Uhr auf zu unserer letzten Etappe. \nDie  dritten Gruppe\, die Fußpilger die sich nicht die gesamte Strecke zutrauen starten unter der Führung von Brigitte Ehrke\, ebenfalls mit dem Pilgersegen vor Sankt Andreas am Freitagmorgen um 8 Uhr und beschränken sich auf eine Teilstrecke von ca. 11…13 km bis etwa Neuss-Norf. Dort wechselt man gegebenenfalls auf den ÖPNV. \nDie letzte Teiletappe nach Köln hinein mit Ute Schäfer \n02.05 ab Düsseldorf Hbf 9.12 Uhr Gleis 11\, S -Bahn-Linie S6 \nan 9.46 Uhr Leverkusen Chempark. \nDer Weg führt zunächst zum Japanischen Garten. Nach einem Rundgang grht es zurück zur  Ausstiegs- Haltestelle und von dort weiter mit der S 6 bis Köln-Deutz. Von dort geht es zu Fuß weiter durch den Rheinpark bis zum Ende und dann längs des Mülheimer Hafen zurück. In einem Lokal im Rheinpark ist eine Kaffee-Pause vorgesehen. Abschließend geht es über die Hohenzollernbrücke zum Dom-Forum . \nWer am 1. und/oder 2. Mai \, die verkürzte Strecke mitgehen möchte meldet sich bitte bis zum 30.03 bei der jeweiligen Gruppe an. \nBrigitte Ehrke per Mail \nUte Schäfer per Mail \nAm 02. Mai werden alle drei Gruppen gegen 16.00 Uhr in Köln im Domforum ankommen. Hier ist ein Treffen mit den Santiago-Freunden Köln geplant \nWer nicht am Samstagabend zurückreisen möchte\, kann zum Beispiel ein Hotelzimmer im Maternushaus buchen. \nTelefon: 0221/1631-0  oder info@maternushaus.de \nhttps://tagen.erzbistum-koeln.de/maternushaus/start/ \nAuch im Maternushaus sind rechtzeitig und selbstständig die Zimmer zu reservieren. \nDie Santiago-Freunde Köln haben für uns einen Empfang vorbereitet. Dazu gehören der Besuch des Domes und die Besichtigung des Edith Stein Denkmales\, geschaffen von unserem\, im Vergangenen Jahr verstorbeben. Mitglied Bert Gerresheim. \nAnschließend suchen wir mit den Santiago-Freunden Köln eines der Kölner Brauhäuser auf. \nAuch hierzu benötigen wir für die Reservierung eure verbindliche Zusage. \nFür diese Pilgerwanderung wird ein eigener Pilgerpass erstellt.  \nUnsere Kölner Freunde können uns eine “Kölsche Compostela” vorbereiten\, hierzu benötigen wir eure Namen\, Geburtsdatum\, Wohnort (nur die Stadt) und unser Aufbruch- und Ankunftsdatum sowie Aufbruch und Zielort (letztere stehen ja schon fest) \nFür unterwegs wie auch für das Zusammensein im Kölner Brauhaus ladet bitte folgendes Dokument herunter! \nDie Teilnahme an der Pilgerwanderung erfolgt in eigener Verantwortung und auf eigene\, individuelle Kosten. \nNähere Informationen zum Planungsfortschritt gibt es hier an dieser Stelle wie auch zu den regelmäßigen\, monatlichen  Pilgertreffen. \nRückfragen per Mail oder Mobil unter 0172/2046829 \n  \n  \n 
URL:https://www.jakobusbruderschaft.de/termin/pilgerwanderung-duesseldorf-koeln-in-planung/
CATEGORIES:Pilgertreff
END:VEVENT
END:VCALENDAR