BEGIN:VCALENDAR
VERSION:2.0
PRODID:-//Sankt-Jakobusbruderschaft Düsseldorf e.V. - ECPv6.9.1//NONSGML v1.0//EN
CALSCALE:GREGORIAN
METHOD:PUBLISH
X-ORIGINAL-URL:https://www.jakobusbruderschaft.de
X-WR-CALDESC:Veranstaltungen für Sankt-Jakobusbruderschaft Düsseldorf e.V.
REFRESH-INTERVAL;VALUE=DURATION:PT1H
X-Robots-Tag:noindex
X-PUBLISHED-TTL:PT1H
BEGIN:VTIMEZONE
TZID:Europe/Berlin
BEGIN:DAYLIGHT
TZOFFSETFROM:+0100
TZOFFSETTO:+0200
TZNAME:CEST
DTSTART:20260329T010000
END:DAYLIGHT
BEGIN:STANDARD
TZOFFSETFROM:+0200
TZOFFSETTO:+0100
TZNAME:CET
DTSTART:20261025T010000
END:STANDARD
END:VTIMEZONE
BEGIN:VEVENT
DTSTART;VALUE=DATE:20260418
DTEND;VALUE=DATE:20260419
DTSTAMP:20260424T185733
CREATED:20251104T140627Z
LAST-MODIFIED:20260207T151333Z
UID:2117-1776470400-1776556799@www.jakobusbruderschaft.de
SUMMARY:Pilgern vor der Haustüre mit Ute\, fällt aus\, beachtet die Pilgerwanderung 1.-2. Mai
DESCRIPTION:Utes Pilgerwanderungen finden in der Regel am dritten Samstag des Monats statt\, aber bitte auf mögliche\, abweichende Termine achten. \nIm Allgemeinen sind es Strecken mit moderater Wegführung von ca. 10 – 12 km mit einer anschließenden Einkehr. \nBeachtet hier die Informationen zu unserer Jubiläums – Pilgerwanderung am 1.-2. Mai 2026 \nKosten: Eigene Anreise mit dem ÖPNV und Verzehr bei Teilnahme an der Einkehr. \nDetails zu Ort\, Strecke\, Anreise und Treffpunkt werden rechtzeitig an dieser Stelle wie auch unter der WhatsApp-Gruppe: “Pilgerwanderungen Ute” bekannt gegeben. \nKontakt: Ute Schäfer\, Mobil: 01525/3504412 \nWhatsApp-Gruppe: Pilgerwanderungen Ute
URL:https://www.jakobusbruderschaft.de/termin/pilgern-vor-der-haustuere-mit-ute-13/
CATEGORIES:Pilgertreff
END:VEVENT
END:VCALENDAR