BEGIN:VCALENDAR
VERSION:2.0
PRODID:-//Sankt-Jakobusbruderschaft Düsseldorf e.V. - ECPv6.9.1//NONSGML v1.0//EN
CALSCALE:GREGORIAN
METHOD:PUBLISH
X-WR-CALNAME:Sankt-Jakobusbruderschaft Düsseldorf e.V.
X-ORIGINAL-URL:https://www.jakobusbruderschaft.de
X-WR-CALDESC:Veranstaltungen für Sankt-Jakobusbruderschaft Düsseldorf e.V.
REFRESH-INTERVAL;VALUE=DURATION:PT1H
X-Robots-Tag:noindex
X-PUBLISHED-TTL:PT1H
BEGIN:VTIMEZONE
TZID:Europe/Berlin
BEGIN:DAYLIGHT
TZOFFSETFROM:+0100
TZOFFSETTO:+0200
TZNAME:CEST
DTSTART:20250330T010000
END:DAYLIGHT
BEGIN:STANDARD
TZOFFSETFROM:+0200
TZOFFSETTO:+0100
TZNAME:CET
DTSTART:20251026T010000
END:STANDARD
END:VTIMEZONE
BEGIN:VEVENT
DTSTART;VALUE=DATE:20251221
DTEND;VALUE=DATE:20251222
DTSTAMP:20260425T005758
CREATED:20241013T150455Z
LAST-MODIFIED:20251210T102706Z
UID:1303-1766275200-1766361599@www.jakobusbruderschaft.de
SUMMARY:Sportlich ambitioniertes Pilgertraining\, abweichender Termin\, durch die Urdenbacher Kempe
DESCRIPTION:Ein Angebot an alle Pilger und Pilgerinteressierte die sich auf ihren Camino vorbereiten möchten. \nEs stehen Stecken von ca. 15 km\, 20 km\, 25 km\, zur Verfügung\, teilweise als Teilstrecke des rechtsrheinischen Jakobsweges im Raum Essen\, Duisburg\, Mettmann\, Düsseldorf. \nWir treffen uns dieses mal auf dem P+R Parkplatz Hildener Str./Benrather Bahnhof (Bahnhofrückseite) um 11.00Uhr. \nAnfahrt: Stadtbahn U72\, Buslinien 730\, 788\, 789\, S-Bahn Linie S6 oder Individuell mittels PKW. \nDurch den Altrheingraben geht es bis zum Aalfischerei Museum auf der “FIAT VOLUNTAS” in Baumberg. Zurück geht es über das Haus Bürgel\, dann weiter längs des Rheines bis zum Benrather Schloss. \nJe nach Wetterlage und Streckenzustand werden wir auf etwa 15…18km kommen\, \nAnstelle der üblichen Einkehr geht es abschließend auf den Weihnachtsmarkt am Benrather Schloss mit den üblichen Leckereien. \nAnforderungen\, Treffpunkt\, Wanderstrecke gemäß vorheriger telefonischer Absprache\, ca. 3 bis 5 Stunden. \nIn der Regel immer am letzten Sonntagvormittag der geradzahligen Monate (Februar\, April \, Juni\, August\, Oktober\, Dezember). Bitte trotzdem auf Abweichende Termine achten. \nKontakt: Josef Rave\, Telefon: 0172/2046829
URL:https://www.jakobusbruderschaft.de/termin/sortlich-ambitioniertes-pilgertraining-abweichender-termin/
CATEGORIES:Pilgertreff
END:VEVENT
END:VCALENDAR